Workbook

Sheet JUMLAH PETANI
A2: JUMLAH PETANI TANAMAN PERKEBUNAN KOPI ARABIKA MENURUT KECAMATAN DAN KEADAAN TANAMAN TAHUN 2022
A4: JENIS TANAMAN TAHUNAN | C4: : KOPI ARABIKA
A5: TAHUN / SEMESTER | C5: : 2022
A7: NO | B7: KECAMATAN | C7: JUMLAH PETANI (KK)
A9: 1 | B9: Semende Darat Laut | C9: 0
A10: 2 | B10: Semende Darat Tengah | C10: 30
A11: 3 | B11: Semende Darat Ulu | C11: 125
A12: 4 | B12: Tanjung Agung | C12: 0
A13: 5 | B13: Panang Enim | C13: 0
A14: 6 | B14: Lawang Kidul | C14: 0
A15: 7 | B15: Muara Enim | C15: 0
A16: 8 | B16: Ujan Mas | C16: 0
A17: 9 | B17: Benakat | C17: 0
A18: 10 | B18: Gunung Megang | C18: 0
A19: 11 | B19: Rambang Dangku | C19: 0
A20: 12 | B20: Lubai | C20: 0
... A29: 21 | B29: Belimbing | C29: 0
A30: Jumlah Seluruh | C30: =SUM(C9:C29) -> 155

Sheet PRODUKTIVITAS
A2: PRODUKTIVITAS TANAMAN PERKEBUNAN KOPI ARABIKA MENURUT KECAMATAN DAN KEADAAN TANAMAN TAHUN 2022
A4: JENIS TANAMAN TAHUNAN | C4: : KOPI ARABIKA
A5: TAHUN / SEMESTER | C5: : 2022
A7: NO | B7: KECAMATAN | C7: Produktivitas (Kg/Ha)
A9: 1 | B9: Semende Darat Laut | C9: 0
A10: 2 | B10: Semende Darat Tengah | C10: =PRODUKSI!C10/TM!C10 -> 1.3166667
A11: 3 | B11: Semende Darat Ulu | C11: =PRODUKSI!C11/TM!C11 -> 1.5709343
A12: 4 | B12: Tanjung Agung | C12: 0
A13: 5 | B13: Panang Enim | C13: 0
A14: 6 | B14: Lawang Kidul | C14: 0
A15: 7 | B15: Muara Enim | C15: 0
A16: 8 | B16: Ujan Mas | C16: 0
A17: 9 | B17: Benakat | C17: 0
A18: 10 | B18: Gunung Megang | C18: 0
A19: 11 | B19: Rambang Dangku | C19: 0
A20: 12 | B20: Lubai | C20: 0
A21: 13 | B21: Rambang | C21: 0
A22: 14 | B22: Lembak | C22: 0
A23: 15 | B23: Gelumbang | C23: 0
... A29: 21 | B29: Belimbing | C29: 0
A30: Jumlah | C30: =PRODUKSI!C30/TM!C30 -> 1.4963325

Sheet PRODUKSI
A2: PRODUKSI TANAMAN PERKEBUNAN KOPI ARABIKA MENURUT KECAMATAN DAN KEADAAN TANAMAN TAHUN 2022
A4: JENIS TANAMAN TAHUNAN | C4: : KOPI ARABIKA
A5: TAHUN / SEMESTER | C5: : 2022
A7: NO | B7: KECAMATAN | C7: Produksi (Ton)
A9: 1 | B9: Semende Darat Laut | C9: 0
A10: 2 | B10: Semende Darat Tengah | C10: 158
A11: 3 | B11: Semende Darat Ulu | C11: 454
A12: 4 | B12: Tanjung Agung | C12: 0
A13: 5 | B13: Panang Enim | C13: 0
A14: 6 | B14: Lawang Kidul | C14: 0
A15: 7 | B15: Muara Enim | C15: 0
A16: 8 | B16: Ujan Mas | C16: 0
A17: 9 | B17: Benakat | C17: 0
A18: 10 | B18: Gunung Megang | C18: 0
A19: 11 | B19: Rambang Dangku | C19: 0
A20: 12 | B20: Lubai | C20: 0
... A29: 21 | B29: Belimbing | C29: 0
A30: Jumlah Seluruh | C30: =SUM(C9:C29) -> 612

Sheet JUMLAH
A2: JUMLAH LUAS AREAL TANAMAN PERKEBUNAN KOPI ARABIKA MENURUT KECAMATAN DAN KEADAAN TANAMAN TAHUN 2022
A4: JENIS TANAMAN TAHUNAN | C4: : KOPI ARABIKA
A5: TAHUN / SEMESTER | C5: : 2022
A7: NO | B7: KECAMATAN | C7: Jumlah Luas Areal (Ha)
A9: 1 | B9: Semende Darat Laut | C9: =TR!C9+TM!C9+TBM!C9 -> 0
A10: 2 | B10: Semende Darat Tengah | C10: =TR!C10+TM!C10+TBM!C10 -> 120
A11: 3 | B11: Semende Darat Ulu | C11: =TR!C11+TM!C11+TBM!C11 -> 351
A12: 4 | B12: Tanjung Agung | C12: =TR!C12+TM!C12+TBM!C12 -> 0
A13: 5 | B13: Panang Enim | C13: =TR!C13+TM!C13+TBM!C13 -> 0
A14: 6 | B14: Lawang Kidul | C14: =TR!C14+TM!C14+TBM!C14 -> 0
A15: 7 | B15: Muara Enim | C15: =TR!C16+TM!C15+TBM!C15 -> 0
A16: 8 | B16: Ujan Mas | C16: =TR!C17+TM!C16+TBM!C16 -> 0
A17: 9 | B17: Benakat | C17: =TR!C18+TM!C17+TBM!C17 -> 0
A18: 10 | B18: Gunung Megang
A19: 11 | B19: Rambang Dangku | C19: =TR!C19+TM!C18+TBM!C18 -> 0
A20: 12 | B20: Lubai | C20: =TR!C20+TM!C19+TBM!C19 -> 0
A21: 13 | B21: Rambang | C21: =TR!C21+TM!C20+TBM!C20 -> 0
A22: 14 | B22: Lembak | C22: =TR!C22+TM!C21+TBM!C21 -> 0
A23: 15 | B23: Gelumbang | C23: =TR!C23+TM!C22+TBM!C22 -> 0
A24: 16 | B24: Sungai Rotan | C24: =TR!C24+TM!C23+TBM!C23 -> 0
A25: 17 | B25: Muara Belida | C25: =TR!C25+TM!C24+TBM!C24 -> 0
A26: 18 | B26: Kelekar | C26: =TR!C26+TM!C25+TBM!C25 -> 0
A27: 19 | B27: Belida Darat | C27: =TR!C27+TM!C26+TBM!C26 -> 0
A28: 20 | B28: Lubai Ulu | C28: =TR!C28+TM!C28+TBM!C28 -> 0
A29: 21 | B29: Belimbing | C29: =TR!C29+TM!C29+TBM!C29 -> 0
A30: Jumlah Seluruh | C30: =SUM(C9:C29) -> 471

Sheet TR
A2: LUAS AREAL TANAMAN RUSAK/ TANAMAN TIDAK MENGHASILKAN PERKEBUNAN KOPI ARABIKA MENURUT KECAMATAN DAN KEADAAN TANAMAN TAHUN 2022
A4: JENIS TANAMAN TAHUNAN | C4: : KOPI ARABIKA
A5: TAHUN / SEMESTER | C5: : 2022
A7: NO | B7: KECAMATAN | C7: Luas Areal (Ha)
C8: TR/TTM
A9: 1 | B9: Semende Darat Laut | C9: 0
A10: 2 | B10: Semende Darat Tengah | C10: 0
A11: 3 | B11: Semende Darat Ulu | C11: 0
A12: 4 | B12: Tanjung Agung | C12: 0
A13: 5 | B13: Panang Enim | C13: 0
A14: 6 | B14: Lawang Kidul | C14: 0
A15: 7 | B15: Muara Enim | C15: 0
A16: 8 | B16: Ujan Mas | C16: 0
A17: 9 | B17: Benakat | C17: 0
A18: 10 | B18: Gunung Megang | C18: 0
A19: 11 | B19: Rambang Dangku | C19: 0
A20: 12 | B20: Lubai | C20: 0
... A29: 21 | B29: Belimbing | C29: 0
A30: Jumlah Seluruh | C30: =SUM(C9:C29) -> 0

Sheet TM
A2: LUAS AREAL TANAMAN MENGHASILKAN PERKEBUNAN KOPI ARABIKA MENURUT KECAMATAN DAN KEADAAN TANAMAN TAHUN 2022
A4: JENIS TANAMAN TAHUNAN | C4: : KOPI ARABIKA
A5: TAHUN / SEMESTER | C5: : 2022
A7: NO | B7: KECAMATAN | C7: Luas Areal (Ha)
C8: TM
A9: 1 | B9: Semende Darat Laut | C9: 0
A10: 2 | B10: Semende Darat Tengah | C10: 120
A11: 3 | B11: Semende Darat Ulu | C11: 289
A12: 4 | B12: Tanjung Agung | C12: 0
A13: 5 | B13: Panang Enim | C13: 0
A14: 6 | B14: Lawang Kidul | C14: 0
A15: 7 | B15: Muara Enim | C15: 0
A16: 8 | B16: Ujan Mas | C16: 0
A17: 9 | B17: Benakat | C17: 0
A18: 10 | B18: Gunung Megang | C18: 0
A19: 11 | B19: Rambang Dangku | C19: 0
A20: 12 | B20: Lubai | C20: 0
... A29: 21 | B29: Belimbing | C29: 0
A30: Jumlah Seluruh | C30: =SUM(C9:C29) -> 409

Sheet TBM
A2: LUAS AREAL TANAMAN BELUM MENGHASILKAN PERKEBUNAN KOPI ARABIKA MENURUT KECAMATAN DAN KEADAAN TANAMAN TAHUN 2022
A4: JENIS TANAMAN TAHUNAN | C4: : KOPI ARABIKA
A5: TAHUN / SEMESTER | C5: : 2022
A7: NO | B7: KECAMATAN | C7: Luas Areal (Ha)
C8: TBM
A9: 1 | B9: Semende Darat Laut | C9: 0
A10: 2 | B10: Semende Darat Tengah | C10: 0
A11: 3 | B11: Semende Darat Ulu | C11: 62
A12: 4 | B12: Tanjung Agung | C12: 0
A13: 5 | B13: Panang Enim | C13: 0
A14: 6 | B14: Lawang Kidul | C14: 0
A15: 7 | B15: Muara Enim | C15: 0
A16: 8 | B16: Ujan Mas | C16: 0
A17: 9 | B17: Benakat | C17: 0
A18: 10 | B18: Gunung Megang | C18: 0
A19: 11 | B19: Rambang Dangku | C19: 0
A20: 12 | B20: Lubai | C20: 0
... A29: 21 | B29: Belimbing | C29: 0
A30: Jumlah Seluruh | C30: =SUM(C9:C29) -> 62
